BEGIN:VCALENDAR
VERSION:2.0
PRODID:-//ChamberMaster//Event Calendar 2.0//EN
METHOD:PUBLISH
X-PUBLISHED-TTL:P3D
REFRESH-INTERVAL:P3D
CALSCALE:GREGORIAN
BEGIN:VEVENT
DTSTART:20260505T230000Z
DTEND:20260505T230000Z
X-MICROSOFT-CDO-ALLDAYEVENT:FALSE
SUMMARY:Pre Planning Seminar hosted by St. Bernard Memorial Funeral Home & Gardens
DESCRIPTION:Come find out how to protect your loved ones at a Pre-Planning Seminar.
X-ALT-DESC;FMTTYPE=text/html:Come find out how to protect your loved ones at a Pre-Planning Seminar.&nbsp\;<br />\n&nbsp\;
LOCATION:Charlie's Restaurant 16129 E Saint Bernard Hwy Violet\, LA 70082
UID:e.1881.3457
SEQUENCE:3
DTSTAMP:20260423T211839Z
URL:https://business.stbernardchamber.org/events/details/pre-planning-seminar-hosted-by-st-bernard-memorial-funeral-home-gardens-3457
END:VEVENT

END:VCALENDAR
