BEGIN:VCALENDAR
VERSION:2.0
PRODID:-//ChamberMaster//Event Calendar 2.0//EN
METHOD:PUBLISH
X-PUBLISHED-TTL:P3D
REFRESH-INTERVAL:P3D
CALSCALE:GREGORIAN
BEGIN:VEVENT
DTSTART:20260507T150000Z
DTEND:20260507T150000Z
X-MICROSOFT-CDO-ALLDAYEVENT:FALSE
SUMMARY:St. Bernard Chamber of Commerce New Office Ribbon Cutting
DESCRIPTION:Come see our new office with increased visibility as well as Chamber Members can drop off business cards and flyers for our Member Marketplace - a resource Center for St. Bernard!
X-ALT-DESC;FMTTYPE=text/html:Come see our new office with increased visibility as well as Chamber Members can drop off business cards and flyers for our Member Marketplace - a resource Center for St. Bernard!
LOCATION:Nunez Community College Student Testing & Career Counseling Center 3700 Paris Road Rm. 121 Chalmette\, LA 70043
UID:e.1881.3458
SEQUENCE:3
DTSTAMP:20260423T212141Z
URL:https://business.stbernardchamber.org/events/details/st-bernard-chamber-of-commerce-new-office-ribbon-cutting-3458
END:VEVENT

END:VCALENDAR
